BEGIN:VCALENDAR
VERSION:2.0
PRODID:-//Contratero//ES
CALSCALE:GREGORIAN
METHOD:PUBLISH
BEGIN:VEVENT
UID:A.M. 13/2018 CORRELADOR LOGS II@contratero.es
DTSTAMP:20260423T182447Z
DTSTART:20221018T235959
DTEND:20221019T005959
SUMMARY:Cierre: Suministro de infraestructura para archivado de LO
DESCRIPTION:Suministro de infraestructura para archivado de LOGS de los sistemas corporativos del Gobierno de Canarias.\\n\\nOrganismo: Viceconsejería de Administraciones Públicas y Transparencia\\n\\nVer en Contratero: https://contratero.es/contracts/A.M. 13/2018 CORRELADOR LOGS II
URL:https://contratero.es/contracts/A.M. 13/2018 CORRELADOR LOGS II
STATUS:CONFIRMED
BEGIN:VALARM
TRIGGER:-P1D
ACTION:DISPLAY
DESCRIPTION:Recordatorio: Suministro de infraestructura 
END:VALARM
END:VEVENT
END:VCALENDAR